BEGIN:VCALENDAR
VERSION:2.0
PRODID:-//ChamberMaster//Event Calendar 2.0//EN
METHOD:PUBLISH
X-PUBLISHED-TTL:P3D
REFRESH-INTERVAL:P3D
CALSCALE:GREGORIAN
BEGIN:VEVENT
DTSTART:20200220T170000Z
DTEND:20200220T180000Z
X-MICROSOFT-CDO-ALLDAYEVENT:FALSE
SUMMARY:V. Watts 60th Anniversary & Grand Re-Opening
DESCRIPTION:Come celebrate with V. Watts for their 60th Anniversary Grand Re-Opening and Ribbon Cutting event!
X-ALT-DESC;FMTTYPE=text/html:Come celebrate with V. Watts for their 60th Anniversary Grand Re-Opening and Ribbon Cutting event!
LOCATION:
UID:e.789.7514
SEQUENCE:3
DTSTAMP:20260424T190247Z
URL:https://business.livingstonparishchamber.org/events/details/v-watts-60th-anniversary-grand-re-opening-7514
END:VEVENT

END:VCALENDAR
