BEGIN:VCALENDAR
VERSION:2.0
PRODID:-//ChamberMaster//Event Calendar 2.0//EN
METHOD:PUBLISH
X-PUBLISHED-TTL:P3D
REFRESH-INTERVAL:P3D
CALSCALE:GREGORIAN
BEGIN:VEVENT
DTSTART:20260417T130000Z
DTEND:20260417T180000Z
X-MICROSOFT-CDO-ALLDAYEVENT:FALSE
SUMMARY:Southside Jr High School Career Day
DESCRIPTION:Looking to help guide the next generation? Reserve a spot at the Southside Jr High School Career Day! Businesses are invited to setup a booth where students can learn more about different careers. Booth spaces with power are available for demonstration exhibits and hands-on activities. There is also outdoor space available for larger displays or vehicles. Students will rotate through the booths\, so we encourage participants to prepare a short "elevator pitch" about their career. You may also want to share things like what you enjoy about your job and steps students can take if they are interested in pursuing a similar path. \n\n\n\nThe goal of the event is to introduce Southside Jr High School students to a variety of careers and help them become familiar with what each field involves. \n\n\n\nTo reserve a booth or learn more please contact Katieann Henkel\n\nkatieann.henkel@lpsb.org \n\n225-664-4221
X-ALT-DESC;FMTTYPE=text/html:Looking to help guide the next generation? Reserve a spot at the Southside Jr High School Career Day! Businesses are invited to setup a booth where students can learn more about different careers. Booth spaces with power are available for demonstration exhibits and hands-on activities. There is also outdoor space available for larger displays or vehicles. Students will rotate through the booths\, so we encourage participants to prepare a short &quot\;elevator pitch&quot\; about their career. You may also want to share things like what you enjoy about your job and steps students can take if they are interested in pursuing a similar path.&nbsp\;<br />\n<br />\nThe goal of the event is to introduce Southside Jr High School students to a variety of careers and help them become familiar with what each field involves.&nbsp\;<br />\n<br />\nTo reserve a booth or learn more please contact Katieann Henkel<br />\nkatieann.henkel@lpsb.org&nbsp\;<br />\n225-664-4221
LOCATION:Southside Jr High School on Pete's Hwy in Denham Springs
UID:e.789.8742
SEQUENCE:3
DTSTAMP:20260423T103034Z
URL:https://business.livingstonparishchamber.org/events/details/southside-jr-high-school-career-day-8742
END:VEVENT

END:VCALENDAR
