BEGIN:VCALENDAR
VERSION:2.0
PRODID:-//ChamberMaster//Event Calendar 2.0//EN
METHOD:PUBLISH
X-PUBLISHED-TTL:P3D
REFRESH-INTERVAL:P3D
CALSCALE:GREGORIAN
BEGIN:VEVENT
DTSTART;VALUE=DATE:20161126
DTEND;VALUE=DATE:20161127
TRANSP:TRANSPARENT
X-MICROSOFT-CDO-ALLDAYEVENT:TRUE
SUMMARY:Small Business Saturday November 2016
DESCRIPTION:#ShopLivingstonParish #LoveLivingstonParish for Small Business Saturday\nSmall Business Saturday is a day to show support for businesses in their community. Help Livingston Parish get BACK 2 BIZ! You are encouraged to show support for participating locally owned business by "shopping local" on November 26\, 2016.\n\n\n\n#LPBack2Biz #LPStrong #LPChamber #ShopLivingstonParish #LoveLivingstonParish\n\n\n\nFor more information\, please contact the Chamber office at 225-665-8155.\n\n\n\n2016 Participating Businesses - COMING SOON!
X-ALT-DESC;FMTTYPE=text/html:<h1>#ShopLivingstonParish #LoveLivingstonParish for&nbsp\;Small Business Saturday</h1>\n<span style="font-size: 14px\;"><span style="font-size: 12px\;">Small Business Saturday is a day to show support for businesses in their community. <strong>Help Livingston Parish get BACK 2 BIZ!&nbsp\;</strong>You are encouraged to show&nbsp\;support for&nbsp\;participating locally owned business by &quot\;shopping local&quot\; on November 26\, 2016.<br />\n<br />\n<strong>#LPBack2Biz&nbsp\;#LPStrong&nbsp\;#LPChamber&nbsp\;#ShopLivingstonParish #LoveLivingstonParish</strong><br />\n<br />\nFor more information\, please contact the Chamber office at 225-665-8155.</span></span><br />\n<br />\n<b><i>2016 Participating Businesses - COMING SOON!</i></b>
LOCATION:Livingston Parish
UID:e.789.5261
SEQUENCE:3
DTSTAMP:20260421T112748Z
URL:https://business.livingstonparishchamber.org/events/details/small-business-saturday-november-2016-5261
END:VEVENT

END:VCALENDAR
